BEGIN:VCALENDAR
VERSION:2.0
PRODID:-//Kulturplattform Oberösterreich - KUPF OÖ //NONSGML Events //EN
CALSCALE:GREGORIAN
X-WR-CALNAME:Kulturplattform Oberösterreich - KUPF OÖ
BEGIN:VEVENT
CREATED:20260417T112429Z
UID:316731
DTEND;VALUE=DATE:20260520T200000
DTSTART;VALUE=DATE:20260520T190000
DTSTAMP:20260419T123305Z
LOCATION:Programmkino Wels: Pollheimerstraße 17\, 4600 Wels
DESCRIPTION:Ein kleiner Ort im Nordosten Englands: die glorreichen Tage liegen längst hinter dem alten Grubendorf. Im The Old Oak genannten Pub treffen sich nun regelmäßig die Arbeiter, die einst unter Tage ihr Werk verrichteten und schließlich ihrer Meinung nach vom System verraten und ausgespuckt wurden. Doch auch diese Stammgäste reichen Pubinhaber TJ Ballantyne nicht, um den Laden vor dem Ruin zu retten. Unruhe in die vergessene Ortschaft bringt auch der Fremdenhass, der den ankommenden Geflüchteten aus Syrien entgegenschlägt. Die sollen in den zahlreichen leerstehenden Häusern des Ortes einquartiert werden, und das stößt bei den Alteingesessenen auf wenig Verständnis. Nur TJ Ballantyne verschränkt nicht sofort die Arme, sondern freundet sich mit der jungen Syrerin Yara an. Gemeinsam feilen sie an einem Plan, sowohl die Wogen zwischen beiden Lagern zu glätten als auch den Pub zu retten… <strong>Auch abseits der Leinwand steht dieser Abend im Zeichen der Rettung eines Irish Pubs: nachdem das Welser Lieblingslokal Black Horse Inn aktuell vor finanziellen Herausforderungen aufgrund eines notwendigen Umbaus steht, gibt es an diesem Abend im Kinosaal eine Spendenbox, die fleißig befüllt werden darf!</strong> <strong>Anschließend an den Film wird es ein Buffet im x.tra.Zimmer geben, der gesamte Erlös geht in die Spendenbox für das Black Horse!</strong> <strong>Wir freuen uns über zahlreiches Erscheinen!</strong>
SUMMARY:The Old Oak
ORGANIZER:Programmkino Wels
URL;VALUE=URI:https://kupf.at/termine/the-old-oak/
TRANSP:OPAQUE
BEGIN:VALARM
ACTION:DISPLAY
TRIGGER;VALUE=DATE-TIME:20260519T170000Z
DESCRIPTION:Erinnerung für The Old Oak
END:VALARM
END:VEVENT
END:VCALENDAR
