BEGIN:VCALENDAR
VERSION:2.0
PRODID:-//Kulturplattform Oberösterreich - KUPF OÖ //NONSGML Events //EN
CALSCALE:GREGORIAN
X-WR-CALNAME:Kulturplattform Oberösterreich - KUPF OÖ
BEGIN:VEVENT
CREATED:20260417T111916Z
UID:316729
DTEND;VALUE=DATE:20260502T193000
DTSTART;VALUE=DATE:20260502T183000
DTSTAMP:20260419T123306Z
LOCATION:Programmkino Wels: Pollheimerstraße 17\, 4600 Wels
DESCRIPTION:Vor langer, langer Zeit, als in Japan noch die Götter regieren, lebt in einem riesigen Wald die wilde Prinzessin Mononoke bei den Wölfen. Doch das friedliche Miteinander von Mensch und Tier ist bedroht: Immer weiter frisst sich die Zivilisation in die Natur hinein. Erstmals werden Waffen aus Eisen geschmiedet, Gewehre, deren Kugeln bereits den Panzer einer Samurai-Rüstung durchschlagen können. Nun wollen die Menschen die alte Ordnung endgültig umstürzen und machen Jagd auf den mächtigen Waldgott. Die Tiere aber wollen sich nicht kampflos ergeben und sammeln sich zu einer letzten großen Schlacht. Mittenhinein in diesen tödlichen Konflikt gerät der junge Krieger Ashitaka. Er und Mononoke finden sich zwischen den Fronten wieder – und nur in ihren Händen liegt die Macht, die drohende Katastrophe abzuwenden… <strong>Hayao Miyazakis PRINZESSIN MONONOKE gilt als ein Meilenstein der Animationskunst und ein Film von unübertroffener Kraft und Schönheit. Eine epische Geschichte von Konflikten zwischen Menschen, Göttern und der Natur.</strong> <strong>Wir zeigen Hayao Miyazakis Animationsfilmklassiker für alle Filmliebhaber*innen, Anime- und Comic (Con)-Fans!</strong>
SUMMARY:Prinzessin Mononoke
ORGANIZER:Programmkino Wels
URL;VALUE=URI:https://kupf.at/termine/prinzessin-mononoke/
TRANSP:OPAQUE
BEGIN:VALARM
ACTION:DISPLAY
TRIGGER;VALUE=DATE-TIME:20260501T163000Z
DESCRIPTION:Erinnerung für Prinzessin Mononoke
END:VALARM
END:VEVENT
END:VCALENDAR
