BEGIN:VCALENDAR
VERSION:2.0
PRODID:-//Kulturplattform Oberösterreich - KUPF OÖ //NONSGML Events //EN
CALSCALE:GREGORIAN
X-WR-CALNAME:Kulturplattform Oberösterreich - KUPF OÖ
BEGIN:VEVENT
CREATED:20260313T060556Z
UID:314518
DTEND;VALUE=DATE:20260627T160000
DTSTART;VALUE=DATE:20260627T150000
DTSTAMP:20260421T080310Z
LOCATION:Musikpavillon Traunkirchen: \, 4801 Traunkirchen
DESCRIPTION:
SUMMARY:Benefizkonzert Traunkirchen
ORGANIZER:K.I.T.T. - Kulturinitiative Traunkirchen am Traunsee
URL;VALUE=URI:https://kupf.at/termine/benefizkonzert-traunkirchen/
TRANSP:OPAQUE
BEGIN:VALARM
ACTION:DISPLAY
TRIGGER;VALUE=DATE-TIME:20260626T130000Z
DESCRIPTION:Erinnerung für Benefizkonzert Traunkirchen
END:VALARM
END:VEVENT
END:VCALENDAR
