BEGIN:VCALENDAR
VERSION:2.0
PRODID:-//Kulturplattform Oberösterreich - KUPF OÖ //NONSGML Events //EN
CALSCALE:GREGORIAN
X-WR-CALNAME:Kulturplattform Oberösterreich - KUPF OÖ
BEGIN:VEVENT
CREATED:20260113T125456Z
UID:310566
DTEND;VALUE=DATE:20270117T000000
DTSTART;VALUE=DATE:20260117T210000
DTSTAMP:20260421T080311Z
LOCATION:Jazzatelier Ulrichsberg: Badergasse 2\, 4161 Ulrichsberg
DESCRIPTION:Die energiegeladene Formation nimmt das Publikum mit ihrem Mix aus Instrumentals und gesungenen Klassikern mit auf eine rasante Reise durch den amerikanischen und britischen Blues der 50er und 60er Jahre. Insane Insta Mental Music – When the Surf meets the Blues! Zudem feiert der Maler heuer ein Jubiläum, das diesen Einblick in sein aktuelles Schaffen auf besondere Weise begleitet. © Hannes Eilmsteiner Im Anschluss an die Vernissage spielt im Konzertsaal die Linzer Band Insta Mentals (21.00 Uhr).
SUMMARY:INSTA MENTALS
ORGANIZER:Jazzatelier Ulrichsberg
URL;VALUE=URI:https://kupf.at/termine/insta-mentals/
TRANSP:OPAQUE
BEGIN:VALARM
ACTION:DISPLAY
TRIGGER;VALUE=DATE-TIME:20260116T200000Z
DESCRIPTION:Erinnerung für INSTA MENTALS
END:VALARM
END:VEVENT
END:VCALENDAR
