BEGIN:VCALENDAR
VERSION:2.0
PRODID:-//Kulturplattform Oberösterreich - KUPF OÖ //NONSGML Events //EN
CALSCALE:GREGORIAN
X-WR-CALNAME:Kulturplattform Oberösterreich - KUPF OÖ
BEGIN:VEVENT
CREATED:20250906T113317Z
UID:301662
DTEND;VALUE=DATE:20260614T130000
DTSTART;VALUE=DATE:20260612T170000
DTSTAMP:20260422T083009Z
LOCATION:Verein Textile Kultur Haslach: Stahlmühle 4\, 4170 Haslach an der Mühl
DESCRIPTION:Die Kunst der Papierblumen gibt es schon sehr lange und die Gestaltungsmöglichkeiten sind unendlich. Sie erfordern etwas Geduld, haben aber einen ewigen Charakter, da sie nicht verwelken. In diesem Workshop lernen wir einige Grundtechniken und gestalten gemeinsam einige klassische Blumen wie Mohnblumen oder Pfingstrosen, bevor jede/r die Möglichkeit hat, das Spektrum zu erweitern, indem man eigene Blumen erfindet, Farben nach Belieben kombiniert, einen Strauß zusammenstellt oder sich von einem Zweig inspirieren lässt. Je nach Geschmack können wir auch mit der Kirigami-Technik arbeiten, um Girlanden, Broschen oder Wandinstallationen zu gestalten. Hier geht es darum, sich von der Natur inspirieren zu lassen, ohne sich darauf zu beschränken, sie « nur » nachzuahmen. Zielgruppe: alle Blumenliebhaber/innen und kreativen Menschen Voraussetzungen: keine Anzahl: max. 10 Personen Kurszeiten: Fr: 17:00-20:00 Uhr, Sa: 9:00-13:00 Uhr und 14:30-18:00 Uhr, So: 9:00-13:00 Uhr Kursgebühr: 230 Euro, für Studierende 210 Euro (exklusive Materialkosten) Kursleitung: DELPHINE LÉGER, Frankreich/Österreich 1976 geboren, lebt und arbeitet in Wien, Ausbildung als Textildesignerin an der E.N.S.A.A.M.A Olivier de Serres in Paris. In Frankreich war sie als Theaterschauspielerin und Bühnengestalterin tätig. Seit 2006 arbeitet sie als Kunsthandwerkerin und Künstlerin in Wien. Hauptsächlich mit Papier und Karton beschäftigt, hat sie sich unter anderem in die Kunst der Papierblumengestaltung vertieft. Mehr Infos: www.lapetitegalerie.at
SUMMARY:Papierblumen kreieren
ORGANIZER:Textile Kultur Haslach
URL;VALUE=URI:https://kupf.at/termine/papierblumen-kreieren-2/
TRANSP:OPAQUE
BEGIN:VALARM
ACTION:DISPLAY
TRIGGER;VALUE=DATE-TIME:20260611T150000Z
DESCRIPTION:Erinnerung für Papierblumen kreieren
END:VALARM
END:VEVENT
END:VCALENDAR
