BEGIN:VCALENDAR
VERSION:2.0
PRODID:-//Kulturplattform Oberösterreich - KUPF OÖ //NONSGML Events //EN
CALSCALE:GREGORIAN
X-WR-CALNAME:Kulturplattform Oberösterreich - KUPF OÖ
BEGIN:VEVENT
CREATED:20250906T112946Z
UID:301658
DTEND;VALUE=DATE:20260614T130000
DTSTART;VALUE=DATE:20260612T170000
DTSTAMP:20260422T083058Z
LOCATION:Verein Textile Kultur Haslach: Stahlmühle 4\, 4170 Haslach an der Mühl
DESCRIPTION:Kakishibu ist eine fermentierte Pflanzenbeize, die ihre Wurzeln in Japan hat und aus grünen, noch unreifen Persimmonfrüchten gewonnen wird. Durch die Fermentation entsteht eine intensive, tanninhaltige, braune Flüssigkeit, die traditionell auf Textilien und Holz verwendet wird. Sie wird für ihre astringenten, ungiftigen und antiseptischen Eigenschaften sehr geschätzt und ist ein wunder-bares, direktes Färbemittel für alle Faserarten. Im Kurs arbeiten wir mit unterschiedlichen Konzentrationen der Beize und lernen, wie man in Kombination mit anderen Metallbeizen wunderschöne Farbkompositionen von zarten Ockertönen über Rottöne bis fast schwarzen Brauntönen gestalten kann. Die vorgewaschenen Stoffe und alle Materialien zum Färben werden gegen Materialpreis von der Kursleitung zur Verfügung gestellt - es wird genug Stoff sein, um einen kleinen Tischläufer bzw. Wandbehang (noren) machen zu können. Zielgruppe: alle Interessierten Voraussetzungen: keine Anzahl: max. 8 Personen Kurszeiten: Fr: 17:00-20:00 Uhr, Sa: 9:00-13:00 Uhr und 14:30-18:00 Uhr, So: 9:00-13:00 Uhr Kursgebühr: 230 Euro, für Studierende 210 Euro (exklusive Materialkosten) Kursleitung: ANITA BAUER, Österreich 1989 geboren in Linz, studierte Textilkunst an der Universität für Angewandte Kunst in Wien sowie Textildesign und Färberei in Tokyo an der Joshibi University for Art and Design, lebt und arbeitet in Wien und Oberösterreich. In ihren Arbeiten geht es um einen Dialog zwischen Handwerk, Design und Kunst, zwischen Altem und Neuem und die Verbindung verschiedener Kulturkreise.
SUMMARY:Kakishibuzome – Färben mit fermentiertem Persimmon-Tannin
ORGANIZER:Textile Kultur Haslach
URL;VALUE=URI:https://kupf.at/termine/kakishibuzome-faerben-mit-fermentiertem-persimmon-tannin/
TRANSP:OPAQUE
BEGIN:VALARM
ACTION:DISPLAY
TRIGGER;VALUE=DATE-TIME:20260611T150000Z
DESCRIPTION:Erinnerung für Kakishibuzome &#8211\; Färben mit fermentiertem Persimmon-Tannin
END:VALARM
END:VEVENT
END:VCALENDAR
