BEGIN:VCALENDAR
VERSION:2.0
PRODID:-//Kulturplattform Oberösterreich - KUPF OÖ //NONSGML Events //EN
CALSCALE:GREGORIAN
X-WR-CALNAME:Kulturplattform Oberösterreich - KUPF OÖ
BEGIN:VEVENT
CREATED:20250906T112750Z
UID:301655
DTEND;VALUE=DATE:20260614T130000
DTSTART;VALUE=DATE:20260612T170000
DTSTAMP:20260422T082959Z
LOCATION:Verein Textile Kultur Haslach: Stahlmühle 4\, 4170 Haslach an der Mühl
DESCRIPTION:Zunächst werden wir am eigenen Körper Maß nehmen und nach der Anleitung von Bella Hendrix (Maßarbeit Dessous und Badebekleidung, 2013) einen Grundschnitt erstellen. Beinausschnitt und Seitenhöhe können den persönlichen Vorlieben entsprechend variiert werden. Es kann auch gern ein Lieblingsslip mitgebracht und der Schnitt verglichen werden. Ergänzend gibt es Materialkunde und Infos zu Bezugsquellen und Gummis, sowie auch die nötigen nähtechnischen Grundlagen. Nach der Herstellung eines Probeslips und eventuellen weiteren nötigen Anpassungen kann es auch schon mit der Slipproduktion losgehen! Je nach Zeit geht sich eventuell auch ein Bikinihöschen oder ein Hemdchen aus. Geeignete Stoffe und Gummis werden von der Kursleiterin nach Rücksprache mit den Teilnehmer/innen mitgebracht. Zielgruppe: alle, die endlich passende Höschen haben wollen Voraussetzungen: Nähmaschinenkenntnisse von Vorteil, jedoch nicht Bedingung. Wenn die eigene Maschine mitgebracht wird, sollte sie gut den Stoff transportieren und Zickzack und Dreifach-Zickzack können Anzahl: max. 8 Personen Kurszeiten: Fr: 17:00-20:00 Uhr, Sa: 9:00-13:00 Uhr und 14:30-18:00 Uhr, So: 9:00-13:00 Uhr Kursgebühr: 230 Euro, für Studierende 210 Euro (exklusive Materialkosten) Kursleitung: URSULA GÖRLITZ, Österreich 1957 geboren, lange Jahre tätig in der Lehrerausbildung an der PH Wien, PH Baden und der Akademie der Bildenden Künste Wien, 50 Jahre Näherfahrung, fertigt ihre Unterwäsche inklusive BHs seit 9 Jahren selber an, große Bandbreite an Interessen beim Arbeit mit textilen Werkstoffen und Techniken, aber auch mit Holz und Metall.
SUMMARY:Slip fit! – Die perfekte Unterhose
ORGANIZER:Textile Kultur Haslach
URL;VALUE=URI:https://kupf.at/termine/slip-fit-die-perfekte-unterhose/
TRANSP:OPAQUE
BEGIN:VALARM
ACTION:DISPLAY
TRIGGER;VALUE=DATE-TIME:20260611T150000Z
DESCRIPTION:Erinnerung für Slip fit! – Die perfekte Unterhose
END:VALARM
END:VEVENT
END:VCALENDAR
