BEGIN:VCALENDAR
VERSION:2.0
PRODID:-//Kulturplattform Oberösterreich - KUPF OÖ //NONSGML Events //EN
CALSCALE:GREGORIAN
X-WR-CALNAME:Kulturplattform Oberösterreich - KUPF OÖ
BEGIN:VEVENT
CREATED:20250906T112450Z
UID:301652
DTEND;VALUE=DATE:20260517T130000
DTSTART;VALUE=DATE:20260514T090000
DTSTAMP:20260422T083000Z
LOCATION:Verein Textile Kultur Haslach: Stahlmühle 4\, 4170 Haslach an der Mühl
DESCRIPTION:Wir entdecken in diesem Kurs die kreative Welt der Materialgestaltung und setzen neue Impulse für nachhaltige Mode. „Textile Freiheit – Ressourcen neu denken, Mode neu formen“ lädt dazu ein, eigene Materialien zu entwickeln und innovative Ansätze für ressourcenschonende Textilien zu erforschen. Durch praktische Experimente und kreative Techniken lernen wir, bestehende Ressourcen neu zu interpretieren und nachhaltige Designs zu schaffen. Der Kurs fördert eigenständiges Arbeiten und inspiriert dazu, textile Flächen und Mode mit einem bewussten Blick auf Umwelt und Innovation zu gestalten. Ziel des Workshops ist es, ein eigenes Produkt zu entwickeln und zu fertigen. Der Kurs fördert eigenständiges Arbeiten, inspiriert zu bewusster Gestaltung und bietet praktische Techniken, um Umwelt und Innovation miteinander zu verbinden. Zielgruppe: Designer/innen, Modebegeisterte, Textil- und Nachhaltigkeitsinteressierte sowie kreative Köpfe, die die Welt der Materialgestaltung erkunden möchten Voraussetzungen: für Anfänger/innen und Fortgeschrittene geeignet Anzahl: max. 12 Personen Kurszeiten: Do - Sa 09:00 – 13:00 Uhr und 14:30 – 18:00 Uhr, So 09:00 – 13:00 Uhr Kursgebühr: 350 Euro, für Studierende 320 Euro (exklusive Materialkosten) Kursleitung 1: LARA SOHREH WERNERT, DE 1986 in Berlin geboren, Designerin mit unternehmerischen Visionen für nachhaltige Textilkreisläufe, Modedesign-Studium in Berlin und Madrid, Master an der Burg Giebichenstein Kunsthochschule Halle; 2015 rief sie gemeinsam mit der Weberei rohi Stoffe GmbH die Teppichmanufaktur 13RUGS ins Leben und ist dort für Design, Produktion und Vertrieb verantwortlich; 2023 Gründung des Slow Fashion Modelabel Sohreh gemeinsam mit Aikaterini Papathanasiou. Mehr Infos: www.13rugs.com Kursleitung 2: ELFI BAUMGARTNER, AT 1944 in Dornbirn geboren, 1961 – 63 Gaststudium in der Fachklasse Gebrauchsgrafik der HTL in Innsbruck, 1963 – 1970 Studium an der Akademie für angewandte Kunst in Wien, Meisterklasse für Mode Textil und Meisterklasse für angewandte Malerei & Textil, frühe Spezialisierung auf Gobelinweberei, seit 1971 selbständig mit eigenen Ateliers in Innsbruck, Bozen, Madrid und Wien tätig, zahlreiche Studienreisen und Auftragsarbeiten. Mehr Infos: www.elfi-baumgartner.at
SUMMARY:Textile Freiheit – Ressourcen neu denken, Mode neu formen
ORGANIZER:Textile Kultur Haslach
URL;VALUE=URI:https://kupf.at/termine/textile-freiheit-ressourcen-neu-denken-mode-neu-formen/
TRANSP:OPAQUE
BEGIN:VALARM
ACTION:DISPLAY
TRIGGER;VALUE=DATE-TIME:20260513T070000Z
DESCRIPTION:Erinnerung für Textile Freiheit – Ressourcen neu denken\, Mode neu formen
END:VALARM
END:VEVENT
END:VCALENDAR
