BEGIN:VCALENDAR
VERSION:2.0
PRODID:-//Kulturplattform Oberösterreich - KUPF OÖ //NONSGML Events //EN
CALSCALE:GREGORIAN
X-WR-CALNAME:Kulturplattform Oberösterreich - KUPF OÖ
BEGIN:VEVENT
CREATED:20250906T112014Z
UID:301647
DTEND;VALUE=DATE:20260517T130000
DTSTART;VALUE=DATE:20260514T090000
DTSTAMP:20260422T082959Z
LOCATION:Verein Textile Kultur Haslach: Stahlmühle 4\, 4170 Haslach an der Mühl
DESCRIPTION:Der Begriff „Bayeux-Stich“ beschreibt die Anlege- und Überfangtechnik, die im Mittelalter in ganz Europa verwendet wurde. Dieser spezielle Stickstil ist leicht auszuführen und eignet sich für die Herstellung von Wandteppichen und großen Stickereien. Er entstammt der normannischen und englischen Tradition und ist sehr sparsam im Hinblick auf die verwendeten Fäden, da er mit nur wenigen Fäden auf der Rückseite des Stoffes ausgeführt wird. Der berühmte Wandteppich von Bayeux wurde bereits im 11. Jahrhundert mit diesem Verfahren hergestellt. Im Kurs erkunden wir alle Aspekte dieser Technik. Da hier mit langen, flotierenden Stickfäden gearbeitet wird, ist es sehr wichtig, den Stoff straff auf einen Stickrahmen zu spannen, um ein gutes Resultat zu erhalten. Für die Zeichnungen und Buchstaben wird ein Konturenstich gestickt. Diese Motive werden mit Lege- und Plattstich „koloriert“. Wie bei der Originalstickerei, die mit nur 7 dominanten Farben aus Wollgarn auf Leinen gestickt wurde, wird während des Kurses mit denselben Fäden und Farben gearbeitet, um die Möglichkeiten und Grenzen dieser alten Technik zu erkunden. Zielgruppe: alle, die an historischen Techniken interessiert sind Voraussetzungen: keine Anzahl: max. 10 Personen Kurszeiten: Do - Sa 09:00 – 13:00 Uhr und 14:30 – 18:00 Uhr, So 09:00 – 13:00 Uhr Kursgebühr: 350 Euro, für Studierende 320 Euro (exklusive Materialkosten) Kursleitung: TANJA BOUKAL, Österreich 1976 in Wien geboren, HBLA f. Mode- und Bekleidungstechnik/Kunstgewerbe, 1996 – 1999 Studium „Bühnenbild“ an der Wiener Kunstschule, 2002 – 2008 Leitung der Klasse „temporäre Raumgestaltung“ an der Wiener Kunstschule, seit 2000 Assistenz an der Sommerakademie Salzburg; zahlreiche nationale und internationale Ausstellungen, u.a. 2013/14 Einzelausstellung „political correctness“ im Museum der Moderne, Salzburg; 2015 „Demonstrating Minds“ im Museum für zeitgenössische Kunst Helsinki. Mehr Infos: www.boukal.at
SUMMARY:Der Bayeux-Stich
ORGANIZER:Textile Kultur Haslach
URL;VALUE=URI:https://kupf.at/termine/der-bayeux-stich/
TRANSP:OPAQUE
BEGIN:VALARM
ACTION:DISPLAY
TRIGGER;VALUE=DATE-TIME:20260513T070000Z
DESCRIPTION:Erinnerung für Der Bayeux-Stich
END:VALARM
END:VEVENT
END:VCALENDAR
