BEGIN:VCALENDAR
VERSION:2.0
PRODID:-//Kulturplattform Oberösterreich - KUPF OÖ //NONSGML Events //EN
CALSCALE:GREGORIAN
X-WR-CALNAME:Kulturplattform Oberösterreich - KUPF OÖ
BEGIN:VEVENT
CREATED:20250906T111751Z
UID:301645
DTEND;VALUE=DATE:20260517T130000
DTSTART;VALUE=DATE:20260514T090000
DTSTAMP:20260422T083006Z
LOCATION:Verein Textile Kultur Haslach: Stahlmühle 4\, 4170 Haslach an der Mühl
DESCRIPTION:In diesem Kurs tauchen wir gemeinsam in die poetische Welt der Tapisserieweberei ein. Mit offenen Sinnen erarbeiten wir schrittweise verschiedene Techniken und vertiefen diese – von fließenden Farbverläufen über geometrische und organische Formen bis hin zu freien, abstrakten Kompositionen. Ob mit einem eigenen Entwurf oder mit intuitivem Zugang, der spontan von Farbe und Material geleitet wird: Ziel ist es, eine individuelle Tapisserie im Format A4 bis A3 zu gestalten und zu weben. Im Mittelpunkt steht die Freude am Prozess, das Entdecken einer persönlichen, textilen Sprache und das sinnliche Erleben des Webens. Wer Lust hat, kann auch eigene, feine Materialien mitbringen – besonders Garnfarben, die nahe beieinanderliegen, sind von Vorteil. Zum Abschluss kümmern wir uns liebevoll um das Finish – Abnähen, Dämpfen und Versäubern runden das Werk ab. Zielgruppe: alle Interessierten, die die Tapisserie-Weberei kennenlernen möchten Voraussetzungen: für Anfänger/innen und Fortgeschrittene geeignet; Grundkenntnisse im Weben sind von Vorteil, aber nicht verpflichtend Anzahl: max. 8 Personen Kurszeiten: Do - Sa 09:00 – 13:00 Uhr und 14:30 – 18:00 Uhr, So 09:00 – 13:00 Uhr Kursgebühr: 350 Euro, für Studierende 320 Euro (exklusive Materialkosten) Kursleitung: CELINA VON HARTEN, Österreich 1993 geboren, seit 2011 im Textilatelier Beate & Celina von Harten tätig als Textilkünstlerin, Weberin und Kursleiterin; nationale und internationale Ausstellungen, Messen und Auftragsarbeiten; Ausbildung von Student/innen im Rahmen von Volontariaten; int. Carpet Design Award 2019 Mehr Infos: www.beatevonharten.at
SUMMARY:Einführung in die Welt der Tapisserie – Weben als textile Bildsprache
ORGANIZER:Textile Kultur Haslach
URL;VALUE=URI:https://kupf.at/termine/einfuehrung-in-die-welt-der-tapisserie-weben-als-textile-bildsprache/
TRANSP:OPAQUE
BEGIN:VALARM
ACTION:DISPLAY
TRIGGER;VALUE=DATE-TIME:20260513T070000Z
DESCRIPTION:Erinnerung für Einführung in die Welt der Tapisserie – Weben als textile Bildsprache
END:VALARM
END:VEVENT
END:VCALENDAR
