BEGIN:VCALENDAR
VERSION:2.0
PRODID:-//Kulturplattform Oberösterreich - KUPF OÖ //NONSGML Events //EN
CALSCALE:GREGORIAN
X-WR-CALNAME:Kulturplattform Oberösterreich - KUPF OÖ
BEGIN:VEVENT
CREATED:20250906T111245Z
UID:301642
DTEND;VALUE=DATE:20260426T130000
DTSTART;VALUE=DATE:20260406T170000
DTSTAMP:20260422T083006Z
LOCATION:Verein Textile Kultur Haslach: Stahlmühle 4\, 4170 Haslach an der Mühl
DESCRIPTION:In diesem Wochenendkurs bewegen wir uns in einem Experimentierfeld zwischen künstlerischem Ausdruck und textilem Design. Im Rahmen von freien Übungen arbeiten wir mit künstlerischen Techniken sowie mit textilen Methoden und setzen Pinsel, Farben, Stifte, sowie Collagetechniken mit verschiedenen, interessanten Materialien ein, um den Prinzipien der Gestaltungslehre auf den Grund zu gehen. Durch die Verknüpfung verschiedener Elemente erleben wir einen offenen, experimentellen Zugang zu gestalterischen Verfahren und das Prozesshafte wird in den Vordergrund gerückt. Immer wieder einfließende Impulse sorgen für Auflockerung und veranschaulichen das Suchen und Finden von Inspiration und neuen Ideen. Im Laufe des Kurses entsteht eine individuelle Impulsbox, die die eigenen Arbeiten und Probestücke des Kurses miteinander vereint. Als eine Art kleines Archiv lädt diese später dazu ein, es immer wieder hervorzuholen, darin zu blättern und manche Ideen in verschiedenen Techniken umzusetzen oder Entwürfe weiterzuentwickeln. Zielgruppe: alle, die an künstlerischer und textiler Gestaltung interessiert sind und neue experimentelle Zugänge ausprobieren möchten Voraussetzungen: Grundkenntnisse im Nähen Anzahl: max. 10 Personen Kurszeiten: Fr 17:00-20:00, Sa 9:00-13:00 und 14:30-18:00, So 9:00-13:00 Kursgebühr: 230 Euro, für Studierende 210 Euro (exklusive Materialkosten) Kursleitung: KARINA KUEFFNER, Deutschland 1981 geboren, arbeitet als freischaffende Künstlerin und Dozentin in Nürnberg, Studium Diplom Textildesign (Hochschule Hof / Campus Münchberg und Kunstuniversität Linz) sowie Studium Freie Kunst / Malerei (Akademie der Bildenden Künste Nürnberg), Lehrtätigkeit im Bereich Kunst, Textil, Gestaltung (Hochschule Hof, Werkbund Werkstatt Nürnberg), künstlerisch-installative Arbeiten im Spannungsfeld von freier Kunst und textilem Design. Mehr Infos: www.karinakueffner.de
SUMMARY:Farbe, Form & Material – Experimentelle Wege zu Gestaltung und Textildesign
ORGANIZER:Textile Kultur Haslach
URL;VALUE=URI:https://kupf.at/termine/farbe-form-material-experimentelle-wege-zu-gestaltung-und-textildesign-2/
TRANSP:OPAQUE
BEGIN:VALARM
ACTION:DISPLAY
TRIGGER;VALUE=DATE-TIME:20260405T150000Z
DESCRIPTION:Erinnerung für Farbe\, Form &amp\; Material – Experimentelle Wege zu Gestaltung und Textildesign
END:VALARM
END:VEVENT
END:VCALENDAR
