BEGIN:VCALENDAR
VERSION:2.0
PRODID:-//Kulturplattform Oberösterreich - KUPF OÖ //NONSGML Events //EN
CALSCALE:GREGORIAN
X-WR-CALNAME:Kulturplattform Oberösterreich - KUPF OÖ
BEGIN:VEVENT
CREATED:20250906T110526Z
UID:301639
DTEND;VALUE=DATE:20260426T130000
DTSTART;VALUE=DATE:20260424T170000
DTSTAMP:20260422T083147Z
LOCATION:Verein Textile Kultur Haslach: Stahlmühle 4\, 4170 Haslach an der Mühl
DESCRIPTION:Bei diesem Kurs werden wir einen Einblick in das Handwerk des Hutmachers bzw. Modisten erhalten und uns die Grundtechniken aneignen. Der Fokus wird auf der Verarbeitung von Strohgeflechten liegen. Wir werden mit Sinamay, Parasisol, Panama und anderen Materialien arbeiten und experimentieren – vom Modellieren des Materials, dem Einnähen des Kopfweitenbandes, der Bearbeitung der Krempe und Garnitur, bis hin zum fertigen Hut. Als Ergebnis wird jede/r Teilnehmer/in einen Sonnenhut nach eigenem Maß und Design mit nach Hause nehmen können. Zielgruppe: Hutliebhaber/innen und Interessierte Voraussetzungen: gute Grundkenntnisse im Hand- und Maschinennähen Anzahl: max. 8 Personen Kurszeiten: Fr 17:00-20:00, Sa 9:00-13:00 und 14:30-18:00, So 9:00-13:00 Kursgebühr: 230 Euro, für Studierende 210 Euro (exklusive Materialkosten) Kursleitung: DIDO VICTORIA SARGENT, USA/Deutschland/Österreich 1985 in Los Angeles, Kalifornien geboren; absolvierte 2008 dreijährige Ausbildung zur Modistin bei Zussa in Berlin, 2009–2013 als Ausstattungsassistentin sowie Ausstatterin in Linz, OÖ tätig, seit 2013 als Modistin in der Kostümabteilung im Landestheater Linz angestellt; kreiert handgefertigte Einzelstücke und Spezialanfertigungen unter dem Label „Dido Victoria Millinery“. Mehr Infos: www.instagram.com/didovictoria_millinery
SUMMARY:Der Sonnenhut – Einführung in die Verarbeitung von Strohgeflechten
ORGANIZER:Textile Kultur Haslach
URL;VALUE=URI:https://kupf.at/termine/der-sonnenhut-einfuehrung-in-die-verarbeitung-von-strohgeflechten-2/
TRANSP:OPAQUE
BEGIN:VALARM
ACTION:DISPLAY
TRIGGER;VALUE=DATE-TIME:20260423T150000Z
DESCRIPTION:Erinnerung für Der Sonnenhut – Einführung in die Verarbeitung von Strohgeflechten
END:VALARM
END:VEVENT
END:VCALENDAR
